BEGIN:VCALENDAR
VERSION:2.0
PRODID:-//Tukios.com/
BEGIN:VEVENT
UID:1d05dffe-5845-41c6-a72b-a9b913957608@www.wadleysfuneralservice.com
DTSTAMP:20260422T003128Z
DTSTART:20260425T150000Z
DTEND:20260425T160000Z
SUMMARY:Memorial Service
DESCRIPTION:
URL:https://www.wadleysfuneralservice.com/obituaries/cassi-deal
LOCATION: 601 N 7th Ave  Purcell OK 73080
GEO:35.0192739;-97.3685885
END:VEVENT
END:VCALENDAR