BEGIN:VCALENDAR
VERSION:2.0
PRODID:-//Tukios.com/
BEGIN:VEVENT
UID:26b1e7bf-dd34-4968-a371-c64a956dda3c@www.wadleysfuneralservice.com
DTSTAMP:20260423T203946Z
DTSTART:20260424T190000Z
DTEND:20260424T200000Z
SUMMARY:Graveside Service
DESCRIPTION:
URL:https://www.wadleysfuneralservice.com/obituaries/karen-lawson
LOCATION: Hillside Cemetery  Purcell OK 73080
GEO:35.0077519;-97.092877
END:VEVENT
END:VCALENDAR